BEGIN:VCALENDAR
VERSION:2.0
PRODID:-//Mtech Lite - ECPv4.4.4//NONSGML v1.0//EN
CALSCALE:GREGORIAN
METHOD:PUBLISH
X-WR-CALNAME:Mtech Lite
X-ORIGINAL-URL:https://www.mtechlite.co.uk
X-WR-CALDESC:Events for Mtech Lite
BEGIN:VEVENT
DTSTART;VALUE=DATE:20250930
DTEND;VALUE=DATE:20250930
DTSTAMP:20260424T224611
CREATED:20250821T133523Z
LAST-MODIFIED:20250821T133708Z
UID:1642-1759190400-1759276799@www.mtechlite.co.uk
SUMMARY:Bicester Heritage / Formula Renault Experience
DESCRIPTION:
URL:https://www.mtechlite.co.uk/event/bicester-heritage-formula-renault-experience/
LOCATION:Bicester Heritage Circuit\, Buckingham Road \, Launton\, Bicester\, OX26 5HA
CATEGORIES:Bicester Heritage,Formula Renault Driving Experience
END:VEVENT
END:VCALENDAR