BEGIN:VCALENDAR
VERSION:2.0
PRODID:-//Mtech Lite - ECPv4.4.4//NONSGML v1.0//EN
CALSCALE:GREGORIAN
METHOD:PUBLISH
X-WR-CALNAME:Mtech Lite
X-ORIGINAL-URL:https://www.mtechlite.co.uk
X-WR-CALDESC:Events for Mtech Lite
BEGIN:VEVENT
DTSTART;VALUE=DATE:20260415
DTEND;VALUE=DATE:20260415
DTSTAMP:20260425T003743
CREATED:20251014T062309Z
LAST-MODIFIED:20251014T062309Z
UID:1655-1776211200-1776297599@www.mtechlite.co.uk
SUMMARY:Curborough Sprint Course / Formula Renault Experience
DESCRIPTION:
URL:https://www.mtechlite.co.uk/event/curborough-sprint-course-formula-renault-experience-6/
LOCATION:Netherstowe Lane\, Lichfield\, WS13 8EJ\, United Kingdom
CATEGORIES:Curborough Sprint Course,Formula Renault Driving Experience
END:VEVENT
END:VCALENDAR