BEGIN:VCALENDAR
VERSION:2.0
PRODID:-//Mtech Lite - ECPv4.4.4//NONSGML v1.0//EN
CALSCALE:GREGORIAN
METHOD:PUBLISH
X-WR-CALNAME:Mtech Lite
X-ORIGINAL-URL:https://www.mtechlite.co.uk
X-WR-CALDESC:Events for Mtech Lite
BEGIN:VEVENT
DTSTART;VALUE=DATE:20260721
DTEND;VALUE=DATE:20260721
DTSTAMP:20260424T173958
CREATED:20260302T114212Z
LAST-MODIFIED:20260302T114212Z
UID:1701-1784592000-1784678399@www.mtechlite.co.uk
SUMMARY:Three Sisters Circuit / Formula Renault Experience
DESCRIPTION:
URL:https://www.mtechlite.co.uk/event/three-sisters-circuit-formula-renault-experience-5/
LOCATION:Three Sisters Road\, Ashton\, Wigan\, WN4 8DD\, United Kingdom
CATEGORIES:Formula Renault Driving Experience,Three Sisters Circuit
END:VEVENT
END:VCALENDAR